BEGIN:VCALENDAR
VERSION:2.0
PRODID:-//StreamRadar//Match Calendar//EN
CALSCALE:GREGORIAN
METHOD:PUBLISH
X-WR-CALNAME:Raufoss vs Strømsgodset
X-WR-TIMEZONE:America/New_York
BEGIN:VEVENT
UID:match-5507626@streamradar.soccer
SUMMARY:Raufoss vs Strømsgodset
DTSTAMP:20260425T162149Z
DTSTART;TZID=America/New_York:20260920T110000
DTEND;TZID=America/New_York:20260920T130000
LOCATION:NAMMO Stadion
DESCRIPTION:Dove vedere Raufoss vs Strømsgodset in Norvegia - OBOS-ligaen.
  Streaming live e programmazione TV.\nhttps://streamradar.soccer/it/match/5
 507626/raufoss-vs-stromsgodset/
URL;VALUE=URI:https://streamradar.soccer/it/match/5507626/raufoss-vs-stroms
 godset/
STATUS:CONFIRMED
END:VEVENT
END:VCALENDAR
