BEGIN:VCALENDAR
VERSION:2.0
PRODID:-//StreamRadar//Match Calendar//EN
CALSCALE:GREGORIAN
METHOD:PUBLISH
X-WR-CALNAME:Malmö FF vs Örgryte
X-WR-TIMEZONE:America/New_York
BEGIN:VEVENT
UID:match-5505854@streamradar.soccer
SUMMARY:Malmö FF vs Örgryte
DTSTAMP:20260421T095633Z
DTSTART;TZID=America/New_York:20260913T090000
DTEND;TZID=America/New_York:20260913T110000
LOCATION:Eleda Stadion
DESCRIPTION:Dove vedere Malmö FF vs Örgryte in Svezia - Allsvenskan. Stre
 aming live e programmazione TV.\nhttps://streamradar.soccer/it/match/550585
 4/malmo-ff-vs-orgryte/
URL;VALUE=URI:https://streamradar.soccer/it/match/5505854/malmo-ff-vs-orgry
 te/
STATUS:CONFIRMED
END:VEVENT
END:VCALENDAR
