BEGIN:VCALENDAR
VERSION:2.0
PRODID:-//StreamRadar//Match Calendar//EN
CALSCALE:GREGORIAN
METHOD:PUBLISH
X-WR-CALNAME:Inter Miami vs San Diego
X-WR-TIMEZONE:America/New_York
BEGIN:VEVENT
UID:match-5505190@streamradar.soccer
SUMMARY:Inter Miami vs San Diego
DTSTAMP:20260425T162327Z
DTSTART;TZID=America/New_York:20260920T190000
DTEND;TZID=America/New_York:20260920T210000
LOCATION:Nu Stadium
DESCRIPTION:Dove vedere Inter Miami vs San Diego in Major League Soccer. St
 reaming live e programmazione TV.\nhttps://streamradar.soccer/it/match/5505
 190/inter-miami-vs-san-diego/
URL;VALUE=URI:https://streamradar.soccer/it/match/5505190/inter-miami-vs-sa
 n-diego/
STATUS:CONFIRMED
END:VEVENT
END:VCALENDAR
