BEGIN:VCALENDAR
VERSION:2.0
PRODID:-//StreamRadar//Match Calendar//EN
CALSCALE:GREGORIAN
METHOD:PUBLISH
X-WR-CALNAME:DC United vs Charlotte
X-WR-TIMEZONE:America/New_York
BEGIN:VEVENT
UID:match-5505178@streamradar.soccer
SUMMARY:DC United vs Charlotte
DTSTAMP:20260425T162440Z
DTSTART;TZID=America/New_York:20260919T193000
DTEND;TZID=America/New_York:20260919T213000
LOCATION:Audi Field
DESCRIPTION:Dove vedere DC United vs Charlotte in Major League Soccer. Stre
 aming live e programmazione TV.\nhttps://streamradar.soccer/it/match/550517
 8/dc-united-vs-charlotte/
URL;VALUE=URI:https://streamradar.soccer/it/match/5505178/dc-united-vs-char
 lotte/
STATUS:CONFIRMED
END:VEVENT
END:VCALENDAR
