BEGIN:VCALENDAR
VERSION:2.0
PRODID:-//StreamRadar//Match Calendar//EN
CALSCALE:GREGORIAN
METHOD:PUBLISH
X-WR-CALNAME:Cincinnati vs DC United
X-WR-TIMEZONE:America/New_York
BEGIN:VEVENT
UID:match-5505134@streamradar.soccer
SUMMARY:Cincinnati vs DC United
DTSTAMP:20260421T193428Z
DTSTART;TZID=America/New_York:20260905T193000
DTEND;TZID=America/New_York:20260905T213000
LOCATION:TQL Stadium
DESCRIPTION:Dove vedere Cincinnati vs DC United in Major League Soccer. Str
 eaming live e programmazione TV.\nhttps://streamradar.soccer/it/match/55051
 34/cincinnati-vs-dc-united/
URL;VALUE=URI:https://streamradar.soccer/it/match/5505134/cincinnati-vs-dc-
 united/
STATUS:CONFIRMED
END:VEVENT
END:VCALENDAR
