BEGIN:VCALENDAR
VERSION:2.0
PRODID:-//StreamRadar//Match Calendar//EN
CALSCALE:GREGORIAN
METHOD:PUBLISH
X-WR-CALNAME:Grêmio vs Palmeiras
X-WR-TIMEZONE:America/New_York
BEGIN:VEVENT
UID:match-5504565@streamradar.soccer
SUMMARY:Grêmio vs Palmeiras
DTSTAMP:20260425T162328Z
DTSTART;TZID=America/New_York:20260920T160000
DTEND;TZID=America/New_York:20260920T180000
DESCRIPTION:Dove vedere Grêmio vs Palmeiras in Brasile - Brasileirão. Str
 eaming live e programmazione TV.\nhttps://streamradar.soccer/it/match/55045
 65/gremio-vs-palmeiras/
URL;VALUE=URI:https://streamradar.soccer/it/match/5504565/gremio-vs-palmeir
 as/
STATUS:CONFIRMED
END:VEVENT
END:VCALENDAR
