BEGIN:VCALENDAR
VERSION:2.0
PRODID:-//StreamRadar//Match Calendar//EN
CALSCALE:GREGORIAN
METHOD:PUBLISH
X-WR-CALNAME:Atlético Mineiro vs Chapecoense
X-WR-TIMEZONE:America/New_York
BEGIN:VEVENT
UID:match-5504562@streamradar.soccer
SUMMARY:Atlético Mineiro vs Chapecoense
DTSTAMP:20260425T162325Z
DTSTART;TZID=America/New_York:20260920T160000
DTEND;TZID=America/New_York:20260920T180000
LOCATION:MRV Arena
DESCRIPTION:Dove vedere Atlético Mineiro vs Chapecoense in Brasile - Brasi
 leirão. Streaming live e programmazione TV.\nhttps://streamradar.soccer/it
 /match/5504562/atletico-mineiro-vs-chapecoense/
URL;VALUE=URI:https://streamradar.soccer/it/match/5504562/atletico-mineiro-
 vs-chapecoense/
STATUS:CONFIRMED
END:VEVENT
END:VCALENDAR
