BEGIN:VCALENDAR
VERSION:2.0
PRODID:-//StreamRadar//Match Calendar//EN
CALSCALE:GREGORIAN
METHOD:PUBLISH
X-WR-CALNAME:River Plate vs Huracán
X-WR-TIMEZONE:America/New_York
BEGIN:VEVENT
UID:match-5504196@streamradar.soccer
SUMMARY:River Plate vs Huracán
DTSTAMP:20260423T095631Z
DTSTART;TZID=America/New_York:20260920T160000
DTEND;TZID=America/New_York:20260920T180000
LOCATION:Estadio Monumental
DESCRIPTION:Dove vedere River Plate vs Huracán in Argentina - Primera Divi
 sión argentina. Streaming live e programmazione TV.\nhttps://streamradar.s
 occer/it/match/5504196/river-plate-vs-huracan/
URL;VALUE=URI:https://streamradar.soccer/it/match/5504196/river-plate-vs-hu
 racan/
STATUS:CONFIRMED
END:VEVENT
END:VCALENDAR
