BEGIN:VCALENDAR
VERSION:2.0
PRODID:-//StreamRadar//Match Calendar//EN
CALSCALE:GREGORIAN
METHOD:PUBLISH
X-WR-CALNAME:Independiente Rivadavia vs Aldosivi
X-WR-TIMEZONE:America/New_York
BEGIN:VEVENT
UID:match-5504180@streamradar.soccer
SUMMARY:Independiente Rivadavia vs Aldosivi
DTSTAMP:20260421T063100Z
DTSTART;TZID=America/New_York:20260913T160000
DTEND;TZID=America/New_York:20260913T180000
LOCATION:Estadio Juan Bautista Gargantini
DESCRIPTION:Dove vedere Independiente Rivadavia vs Aldosivi in Argentina - 
 Primera División argentina. Streaming live e programmazione TV.\nhttps://s
 treamradar.soccer/it/match/5504180/independiente-rivadavia-vs-aldosivi/
URL;VALUE=URI:https://streamradar.soccer/it/match/5504180/independiente-riv
 adavia-vs-aldosivi/
STATUS:CONFIRMED
END:VEVENT
END:VCALENDAR
