BEGIN:VCALENDAR
VERSION:2.0
PRODID:-//StreamRadar//Match Calendar//EN
CALSCALE:GREGORIAN
METHOD:PUBLISH
X-WR-CALNAME:Independiente vs San Lorenzo
X-WR-TIMEZONE:America/New_York
BEGIN:VEVENT
UID:match-5504179@streamradar.soccer
SUMMARY:Independiente vs San Lorenzo
DTSTAMP:20260421T063022Z
DTSTART;TZID=America/New_York:20260913T160000
DTEND;TZID=America/New_York:20260913T180000
DESCRIPTION:Dove vedere Independiente vs San Lorenzo in Argentina - Primera
  División argentina. Streaming live e programmazione TV.\nhttps://streamra
 dar.soccer/it/match/5504179/independiente-vs-san-lorenzo/
URL;VALUE=URI:https://streamradar.soccer/it/match/5504179/independiente-vs-
 san-lorenzo/
STATUS:CONFIRMED
END:VEVENT
END:VCALENDAR
