BEGIN:VCALENDAR
VERSION:2.0
PRODID:-//StreamRadar//Match Calendar//EN
CALSCALE:GREGORIAN
METHOD:PUBLISH
X-WR-CALNAME:JS Omrane vs Marsa
X-WR-TIMEZONE:America/New_York
BEGIN:VEVENT
UID:match-5620969@streamradar.soccer
SUMMARY:JS Omrane vs Marsa
DTSTAMP:20260425T115738Z
DTSTART;TZID=America/New_York:20260513T093000
DTEND;TZID=America/New_York:20260513T113000
LOCATION:Stade Chedly Zouiten
DESCRIPTION:Tempat menonton JS Omrane vs Marsa di Tunisia - Ligue Professio
 nnelle 1. Siaran langsung dan jadwal TV.\nhttps://streamradar.soccer/id/mat
 ch/5620969/js-omrane-vs-marsa/
URL;VALUE=URI:https://streamradar.soccer/id/match/5620969/js-omrane-vs-mars
 a/
STATUS:CONFIRMED
END:VEVENT
END:VCALENDAR
