BEGIN:VCALENDAR
VERSION:2.0
PRODID:-//StreamRadar//Match Calendar//EN
CALSCALE:GREGORIAN
METHOD:PUBLISH
X-WR-CALNAME:Etoile du Sahel vs CA Bizertin
X-WR-TIMEZONE:America/New_York
BEGIN:VEVENT
UID:match-5620958@streamradar.soccer
SUMMARY:Etoile du Sahel vs CA Bizertin
DTSTAMP:20260425T120006Z
DTSTART;TZID=America/New_York:20260508T093000
DTEND;TZID=America/New_York:20260508T113000
LOCATION:Stade Olympique de Sousse
DESCRIPTION:Tempat menonton Etoile Du Sahel vs CA Bizertin di Tunisia - Lig
 ue Professionnelle 1. Siaran langsung dan jadwal TV.\nhttps://streamradar.s
 occer/id/match/5620958/etoile-du-sahel-vs-ca-bizertin/
URL;VALUE=URI:https://streamradar.soccer/id/match/5620958/etoile-du-sahel-v
 s-ca-bizertin/
STATUS:CONFIRMED
END:VEVENT
END:VCALENDAR
