BEGIN:VCALENDAR
VERSION:2.0
PRODID:-//StreamRadar//Match Calendar//EN
CALSCALE:GREGORIAN
METHOD:PUBLISH
X-WR-CALNAME:LA Galaxy vs Houston Dynamo
X-WR-TIMEZONE:America/New_York
BEGIN:VEVENT
UID:match-5620944@streamradar.soccer
SUMMARY:LA Galaxy vs Houston Dynamo
DTSTAMP:20260425T115700Z
DTSTART;TZID=America/New_York:20260523T223000
DTEND;TZID=America/New_York:20260524T003000
LOCATION:Dignity Health Sports Park
DESCRIPTION:Tempat menonton LA Galaxy vs Houston Dynamo di Liga Sepakbola U
 tama Amerika Serika. Siaran langsung dan jadwal TV.\nhttps://streamradar.so
 ccer/id/match/5620944/la-galaxy-vs-houston-dynamo/
URL;VALUE=URI:https://streamradar.soccer/id/match/5620944/la-galaxy-vs-hous
 ton-dynamo/
STATUS:CONFIRMED
END:VEVENT
END:VCALENDAR
