BEGIN:VCALENDAR
VERSION:2.0
PRODID:-//StreamRadar//Match Calendar//EN
CALSCALE:GREGORIAN
METHOD:PUBLISH
X-WR-CALNAME:Avaí vs Goiás
X-WR-TIMEZONE:America/New_York
BEGIN:VEVENT
UID:match-5620173@streamradar.soccer
SUMMARY:Avaí vs Goiás
DTSTAMP:20260424T121529Z
DTSTART;TZID=America/New_York:20260522T200000
DTEND;TZID=America/New_York:20260522T220000
DESCRIPTION:Tempat menonton Avaí vs Goiás di Brasil - Serie B. Siaran lan
 gsung dan jadwal TV.\nhttps://streamradar.soccer/id/match/5620173/avai-vs-g
 oias/
URL;VALUE=URI:https://streamradar.soccer/id/match/5620173/avai-vs-goias/
STATUS:CONFIRMED
END:VEVENT
END:VCALENDAR
