BEGIN:VCALENDAR
VERSION:2.0
PRODID:-//StreamRadar//Match Calendar//EN
CALSCALE:GREGORIAN
METHOD:PUBLISH
X-WR-CALNAME:USGN vs NIGELEC
X-WR-TIMEZONE:America/New_York
BEGIN:VEVENT
UID:match-5620165@streamradar.soccer
SUMMARY:USGN vs NIGELEC
DTSTAMP:20260424T152655Z
DTSTART;TZID=America/New_York:20260426T113000
DTEND;TZID=America/New_York:20260426T133000
LOCATION:Stade Général Seyni Kountché (Niamey)
DESCRIPTION:Tempat menonton USGN vs NIGELEC di Niger - Super Ligue. Siaran 
 langsung dan jadwal TV.\nhttps://streamradar.soccer/id/match/5620165/usgn-v
 s-nigelec/
URL;VALUE=URI:https://streamradar.soccer/id/match/5620165/usgn-vs-nigelec/
STATUS:CONFIRMED
END:VEVENT
END:VCALENDAR
