BEGIN:VCALENDAR
VERSION:2.0
PRODID:-//StreamRadar//Match Calendar//EN
CALSCALE:GREGORIAN
METHOD:PUBLISH
X-WR-CALNAME:Albirex Niigata vs Omiya Ardija
X-WR-TIMEZONE:America/New_York
BEGIN:VEVENT
UID:match-5619648@streamradar.soccer
SUMMARY:Albirex Niigata vs Omiya Ardija
DTSTAMP:20260423T141003Z
DTSTART;TZID=America/New_York:20260502T000000
DTEND;TZID=America/New_York:20260502T020000
LOCATION:Denka Big Swan Stadium
DESCRIPTION:Tempat menonton Albirex Niigata vs Omiya Ardija di Jepang - WE 
 League. Siaran langsung dan jadwal TV.\nhttps://streamradar.soccer/id/match
 /5619648/albirex-niigata-vs-omiya-ardija/
URL;VALUE=URI:https://streamradar.soccer/id/match/5619648/albirex-niigata-v
 s-omiya-ardija/
STATUS:CONFIRMED
END:VEVENT
END:VCALENDAR
