BEGIN:VCALENDAR
VERSION:2.0
PRODID:-//StreamRadar//Match Calendar//EN
CALSCALE:GREGORIAN
METHOD:PUBLISH
X-WR-CALNAME:Real Cartagena vs Bogotá
X-WR-TIMEZONE:America/New_York
BEGIN:VEVENT
UID:match-5619578@streamradar.soccer
SUMMARY:Real Cartagena vs Bogotá
DTSTAMP:20260423T123827Z
DTSTART;TZID=America/New_York:20260502T190000
DTEND;TZID=America/New_York:20260502T210000
DESCRIPTION:Tempat menonton Real Cartagena vs Bogotá di Kolombia - Primera
  B. Siaran langsung dan jadwal TV.\nhttps://streamradar.soccer/id/match/561
 9578/real-cartagena-vs-bogota/
URL;VALUE=URI:https://streamradar.soccer/id/match/5619578/real-cartagena-vs
 -bogota/
STATUS:CONFIRMED
END:VEVENT
END:VCALENDAR
