BEGIN:VCALENDAR
VERSION:2.0
PRODID:-//StreamRadar//Match Calendar//EN
CALSCALE:GREGORIAN
METHOD:PUBLISH
X-WR-CALNAME:Deportes Quindío vs Envigado
X-WR-TIMEZONE:America/New_York
BEGIN:VEVENT
UID:match-5619573@streamradar.soccer
SUMMARY:Deportes Quindío vs Envigado
DTSTAMP:20260423T165118Z
DTSTART;TZID=America/New_York:20260424T211500
DTEND;TZID=America/New_York:20260424T231500
LOCATION:Estadio Centenario
DESCRIPTION:Tempat menonton Deportes Quindío vs Envigado di Kolombia - Pri
 mera B. Siaran langsung dan jadwal TV.\nhttps://streamradar.soccer/id/match
 /5619573/deportes-quindio-vs-envigado/
URL;VALUE=URI:https://streamradar.soccer/id/match/5619573/deportes-quindio-
 vs-envigado/
STATUS:CONFIRMED
END:VEVENT
END:VCALENDAR
