BEGIN:VCALENDAR
VERSION:2.0
PRODID:-//StreamRadar//Match Calendar//EN
CALSCALE:GREGORIAN
METHOD:PUBLISH
X-WR-CALNAME:HPS vs Mariehamn
X-WR-TIMEZONE:America/New_York
BEGIN:VEVENT
UID:match-5619546@streamradar.soccer
SUMMARY:HPS vs Mariehamn
DTSTAMP:20260423T140707Z
DTSTART;TZID=America/New_York:20260429T090000
DTEND;TZID=America/New_York:20260429T110000
LOCATION:Briotech Arena
DESCRIPTION:Tempat menonton HPS vs Mariehamn di Finlandia - Suomen Cup. Sia
 ran langsung dan jadwal TV.\nhttps://streamradar.soccer/id/match/5619546/hp
 s-vs-mariehamn/
URL;VALUE=URI:https://streamradar.soccer/id/match/5619546/hps-vs-mariehamn/
STATUS:CONFIRMED
END:VEVENT
END:VCALENDAR
