BEGIN:VCALENDAR
VERSION:2.0
PRODID:-//StreamRadar//Match Calendar//EN
CALSCALE:GREGORIAN
METHOD:PUBLISH
X-WR-CALNAME:Paphos vs Omonia Nicosia
X-WR-TIMEZONE:America/New_York
BEGIN:VEVENT
UID:match-5619489@streamradar.soccer
SUMMARY:Paphos vs Omonia Nicosia
DTSTAMP:20260423T123414Z
DTSTART;TZID=America/New_York:20260506T120000
DTEND;TZID=America/New_York:20260506T140000
LOCATION:Stelios Kyriakides Stadium
DESCRIPTION:Tempat menonton Paphos vs Omonia Nicosia di Siprus - First Divi
 sion Cyprus. Siaran langsung dan jadwal TV.\nhttps://streamradar.soccer/id/
 match/5619489/paphos-vs-omonia-nicosia/
URL;VALUE=URI:https://streamradar.soccer/id/match/5619489/paphos-vs-omonia-
 nicosia/
STATUS:CONFIRMED
END:VEVENT
END:VCALENDAR
