BEGIN:VCALENDAR
VERSION:2.0
PRODID:-//StreamRadar//Match Calendar//EN
CALSCALE:GREGORIAN
METHOD:PUBLISH
X-WR-CALNAME:Hapoel Acre vs Hapoel Ra'anana
X-WR-TIMEZONE:America/New_York
BEGIN:VEVENT
UID:match-5618791@streamradar.soccer
SUMMARY:Hapoel Acre vs Hapoel Ra'anana
DTSTAMP:20260422T113633Z
DTSTART;TZID=America/New_York:20260508T090000
DTEND;TZID=America/New_York:20260508T110000
DESCRIPTION:Tempat menonton Hapoel Acre vs Hapoel Ra'anana di Israel - Liga
  Leumit. Siaran langsung dan jadwal TV.\nhttps://streamradar.soccer/id/matc
 h/5618791/hapoel-acre-vs-hapoel-raanana/
URL;VALUE=URI:https://streamradar.soccer/id/match/5618791/hapoel-acre-vs-ha
 poel-raanana/
STATUS:CONFIRMED
END:VEVENT
END:VCALENDAR
