BEGIN:VCALENDAR
VERSION:2.0
PRODID:-//StreamRadar//Match Calendar//EN
CALSCALE:GREGORIAN
METHOD:PUBLISH
X-WR-CALNAME:Sreenidi Deccan vs Chanmari
X-WR-TIMEZONE:America/New_York
BEGIN:VEVENT
UID:match-5618723@streamradar.soccer
SUMMARY:Sreenidi Deccan vs Chanmari
DTSTAMP:20260422T120814Z
DTSTART;TZID=America/New_York:20260516T090000
DTEND;TZID=America/New_York:20260516T110000
LOCATION:Deccan Arena
DESCRIPTION:Tempat menonton Sreenidi Deccan vs Chanmari di India - I-League
 . Siaran langsung dan jadwal TV.\nhttps://streamradar.soccer/id/match/56187
 23/sreenidi-deccan-vs-chanmari/
URL;VALUE=URI:https://streamradar.soccer/id/match/5618723/sreenidi-deccan-v
 s-chanmari/
STATUS:CONFIRMED
END:VEVENT
END:VCALENDAR
