BEGIN:VCALENDAR
VERSION:2.0
PRODID:-//StreamRadar//Match Calendar//EN
CALSCALE:GREGORIAN
METHOD:PUBLISH
X-WR-CALNAME:Chanmari vs Dempo
X-WR-TIMEZONE:America/New_York
BEGIN:VEVENT
UID:match-5618720@streamradar.soccer
SUMMARY:Chanmari vs Dempo
DTSTAMP:20260422T120818Z
DTSTART;TZID=America/New_York:20260509T090000
DTEND;TZID=America/New_York:20260509T110000
LOCATION:Rajiv Gandhi Stadium
DESCRIPTION:Tempat menonton Chanmari vs Dempo di India - I-League. Siaran l
 angsung dan jadwal TV.\nhttps://streamradar.soccer/id/match/5618720/chanmar
 i-vs-dempo/
URL;VALUE=URI:https://streamradar.soccer/id/match/5618720/chanmari-vs-dempo
 /
STATUS:CONFIRMED
END:VEVENT
END:VCALENDAR
