BEGIN:VCALENDAR
VERSION:2.0
PRODID:-//StreamRadar//Match Calendar//EN
CALSCALE:GREGORIAN
METHOD:PUBLISH
X-WR-CALNAME:Rajasthan vs Sreenidi Deccan
X-WR-TIMEZONE:America/New_York
BEGIN:VEVENT
UID:match-5618713@streamradar.soccer
SUMMARY:Rajasthan vs Sreenidi Deccan
DTSTAMP:20260422T120817Z
DTSTART;TZID=America/New_York:20260424T090000
DTEND;TZID=America/New_York:20260424T110000
LOCATION:Namdhari Stadium
DESCRIPTION:Tempat menonton Rajasthan vs Sreenidi Deccan di India - I-Leagu
 e. Siaran langsung dan jadwal TV.\nhttps://streamradar.soccer/id/match/5618
 713/rajasthan-vs-sreenidi-deccan/
URL;VALUE=URI:https://streamradar.soccer/id/match/5618713/rajasthan-vs-sree
 nidi-deccan/
STATUS:CONFIRMED
END:VEVENT
END:VCALENDAR
