BEGIN:VCALENDAR
VERSION:2.0
PRODID:-//StreamRadar//Match Calendar//EN
CALSCALE:GREGORIAN
METHOD:PUBLISH
X-WR-CALNAME:Tepatitlán vs Atlante
X-WR-TIMEZONE:America/New_York
BEGIN:VEVENT
UID:match-5618708@streamradar.soccer
SUMMARY:Tepatitlán vs Atlante
DTSTAMP:20260422T113444Z
DTSTART;TZID=America/New_York:20260426T190000
DTEND;TZID=America/New_York:20260426T210000
DESCRIPTION:Tempat menonton Tepatitlán vs Atlante di Liga de Expansión MX
 . Siaran langsung dan jadwal TV.\nhttps://streamradar.soccer/id/match/56187
 08/tepatitlan-vs-atlante/
URL;VALUE=URI:https://streamradar.soccer/id/match/5618708/tepatitlan-vs-atl
 ante/
STATUS:CONFIRMED
END:VEVENT
END:VCALENDAR
