BEGIN:VCALENDAR
VERSION:2.0
PRODID:-//StreamRadar//Match Calendar//EN
CALSCALE:GREGORIAN
METHOD:PUBLISH
X-WR-CALNAME:Ajman vs Al Jazira
X-WR-TIMEZONE:America/New_York
BEGIN:VEVENT
UID:match-5618701@streamradar.soccer
SUMMARY:Ajman vs Al Jazira
DTSTAMP:20260422T121150Z
DTSTART;TZID=America/New_York:20260505T100500
DTEND;TZID=America/New_York:20260505T120500
DESCRIPTION:Tempat menonton Ajman vs Al Jazira di Uni Emirat Arab - Liga Pr
 o UAE. Siaran langsung dan jadwal TV.\nhttps://streamradar.soccer/id/match/
 5618701/ajman-vs-al-jazira/
URL;VALUE=URI:https://streamradar.soccer/id/match/5618701/ajman-vs-al-jazir
 a/
STATUS:CONFIRMED
END:VEVENT
END:VCALENDAR
