BEGIN:VCALENDAR
VERSION:2.0
PRODID:-//StreamRadar//Match Calendar//EN
CALSCALE:GREGORIAN
METHOD:PUBLISH
X-WR-CALNAME:Leopards vs Bidco United
X-WR-TIMEZONE:America/New_York
BEGIN:VEVENT
UID:match-5618135@streamradar.soccer
SUMMARY:Leopards vs Bidco United
DTSTAMP:20260421T145744Z
DTSTART;TZID=America/New_York:20260530T080000
DTEND;TZID=America/New_York:20260530T100000
DESCRIPTION:Tempat menonton Leopards vs Bidco United di Kenyan Premier Leag
 ue. Siaran langsung dan jadwal TV.\nhttps://streamradar.soccer/id/match/561
 8135/leopards-vs-bidco-united/
URL;VALUE=URI:https://streamradar.soccer/id/match/5618135/leopards-vs-bidco
 -united/
STATUS:CONFIRMED
END:VEVENT
END:VCALENDAR
