BEGIN:VCALENDAR
VERSION:2.0
PRODID:-//StreamRadar//Match Calendar//EN
CALSCALE:GREGORIAN
METHOD:PUBLISH
X-WR-CALNAME:San Telmo vs Racing Córdoba
X-WR-TIMEZONE:America/New_York
BEGIN:VEVENT
UID:match-5618050@streamradar.soccer
SUMMARY:San Telmo vs Racing Córdoba
DTSTAMP:20260421T120508Z
DTSTART;TZID=America/New_York:20260620T160000
DTEND;TZID=America/New_York:20260620T180000
LOCATION:Estadio Osvaldo Baletto
DESCRIPTION:Tempat menonton San Telmo vs Racing Córdoba di Argentina - Pri
 mera Nacional. Siaran langsung dan jadwal TV.\nhttps://streamradar.soccer/i
 d/match/5618050/san-telmo-vs-racing-cordoba/
URL;VALUE=URI:https://streamradar.soccer/id/match/5618050/san-telmo-vs-raci
 ng-cordoba/
STATUS:CONFIRMED
END:VEVENT
END:VCALENDAR
