BEGIN:VCALENDAR
VERSION:2.0
PRODID:-//StreamRadar//Match Calendar//EN
CALSCALE:GREGORIAN
METHOD:PUBLISH
X-WR-CALNAME:San Antonio Bulo Bulo vs Guabirá
X-WR-TIMEZONE:America/New_York
BEGIN:VEVENT
UID:match-5618020@streamradar.soccer
SUMMARY:San Antonio Bulo Bulo vs Guabirá
DTSTAMP:20260421T102129Z
DTSTART;TZID=America/New_York:20260529T150000
DTEND;TZID=America/New_York:20260529T170000
LOCATION:Estadio Dr. Carlos Villegas
DESCRIPTION:Tempat menonton San Antonio Bulo Bulo vs Guabirá di Bolivia - 
 Primera División Bolivia. Siaran langsung dan jadwal TV.\nhttps://streamra
 dar.soccer/id/match/5618020/san-antonio-bulo-bulo-vs-guabira/
URL;VALUE=URI:https://streamradar.soccer/id/match/5618020/san-antonio-bulo-
 bulo-vs-guabira/
STATUS:CONFIRMED
END:VEVENT
END:VCALENDAR
