BEGIN:VCALENDAR
VERSION:2.0
PRODID:-//StreamRadar//Match Calendar//EN
CALSCALE:GREGORIAN
METHOD:PUBLISH
X-WR-CALNAME:Iceland vs Argentina
X-WR-TIMEZONE:America/New_York
BEGIN:VEVENT
UID:match-5617978@streamradar.soccer
SUMMARY:Iceland vs Argentina
DTSTAMP:20260422T024648Z
DTSTART;TZID=America/New_York:20260609T203000
DTEND;TZID=America/New_York:20260609T223000
DESCRIPTION:Tempat menonton Islandia vs Argentina di Laga Persahabatan. Sia
 ran langsung dan jadwal TV.\nhttps://streamradar.soccer/id/match/5617978/ic
 eland-vs-argentina/
URL;VALUE=URI:https://streamradar.soccer/id/match/5617978/iceland-vs-argent
 ina/
STATUS:CONFIRMED
END:VEVENT
END:VCALENDAR
