BEGIN:VCALENDAR
VERSION:2.0
PRODID:-//StreamRadar//Match Calendar//EN
CALSCALE:GREGORIAN
METHOD:PUBLISH
X-WR-CALNAME:Baghdad vs Al-Qasim
X-WR-TIMEZONE:America/New_York
BEGIN:VEVENT
UID:match-5617422@streamradar.soccer
SUMMARY:Baghdad vs Al-Qasim
DTSTAMP:20260421T050656Z
DTSTART;TZID=America/New_York:20260502T100000
DTEND;TZID=America/New_York:20260502T120000
DESCRIPTION:Tempat menonton Baghdad vs Al-Qasim di Liga Premier Irak. Siara
 n langsung dan jadwal TV.\nhttps://streamradar.soccer/id/match/5617422/bagh
 dad-vs-al-qasim/
URL;VALUE=URI:https://streamradar.soccer/id/match/5617422/baghdad-vs-al-qas
 im/
STATUS:CONFIRMED
END:VEVENT
END:VCALENDAR
