BEGIN:VCALENDAR
VERSION:2.0
PRODID:-//StreamRadar//Match Calendar//EN
CALSCALE:GREGORIAN
METHOD:PUBLISH
X-WR-CALNAME:Zakho vs Naft Maysan
X-WR-TIMEZONE:America/New_York
BEGIN:VEVENT
UID:match-5617418@streamradar.soccer
SUMMARY:Zakho vs Naft Maysan
DTSTAMP:20260421T093714Z
DTSTART;TZID=America/New_York:20260501T100000
DTEND;TZID=America/New_York:20260501T120000
DESCRIPTION:Tempat menonton Zakho vs Naft Maysan di Liga Premier Irak. Siar
 an langsung dan jadwal TV.\nhttps://streamradar.soccer/id/match/5617418/zak
 ho-vs-naft-maysan/
URL;VALUE=URI:https://streamradar.soccer/id/match/5617418/zakho-vs-naft-may
 san/
STATUS:CONFIRMED
END:VEVENT
END:VCALENDAR
