BEGIN:VCALENDAR
VERSION:2.0
PRODID:-//StreamRadar//Match Calendar//EN
CALSCALE:GREGORIAN
METHOD:PUBLISH
X-WR-CALNAME:Naft Maysan vs Al Shorta
X-WR-TIMEZONE:America/New_York
BEGIN:VEVENT
UID:match-5617407@streamradar.soccer
SUMMARY:Naft Maysan vs Al Shorta
DTSTAMP:20260421T054904Z
DTSTART;TZID=America/New_York:20260426T100000
DTEND;TZID=America/New_York:20260426T120000
LOCATION:Maysan International Stadium (Al Amarah)
DESCRIPTION:Tempat menonton Naft Maysan vs Al Shorta di Liga Premier Irak. 
 Siaran langsung dan jadwal TV.\nhttps://streamradar.soccer/id/match/5617407
 /naft-maysan-vs-al-shorta/
URL;VALUE=URI:https://streamradar.soccer/id/match/5617407/naft-maysan-vs-al
 -shorta/
STATUS:CONFIRMED
END:VEVENT
END:VCALENDAR
