BEGIN:VCALENDAR
VERSION:2.0
PRODID:-//StreamRadar//Match Calendar//EN
CALSCALE:GREGORIAN
METHOD:PUBLISH
X-WR-CALNAME:Vancouver FC vs Cavalry
X-WR-TIMEZONE:America/New_York
BEGIN:VEVENT
UID:match-5617027@streamradar.soccer
SUMMARY:Vancouver FC vs Cavalry
DTSTAMP:20260419T122108Z
DTSTART;TZID=America/New_York:20260517T210000
DTEND;TZID=America/New_York:20260517T230000
LOCATION:Willoughby Community Park Stadium
DESCRIPTION:Tempat menonton Vancouver FC vs Cavalry di Canadian Premier Lea
 gue. Siaran langsung dan jadwal TV.\nhttps://streamradar.soccer/id/match/56
 17027/vancouver-fc-vs-cavalry/
URL;VALUE=URI:https://streamradar.soccer/id/match/5617027/vancouver-fc-vs-c
 avalry/
STATUS:CONFIRMED
END:VEVENT
END:VCALENDAR
