BEGIN:VCALENDAR
VERSION:2.0
PRODID:-//StreamRadar//Match Calendar//EN
CALSCALE:GREGORIAN
METHOD:PUBLISH
X-WR-CALNAME:GrIFK vs MuSa
X-WR-TIMEZONE:America/New_York
BEGIN:VEVENT
UID:match-5616979@streamradar.soccer
SUMMARY:GrIFK vs MuSa
DTSTAMP:20260419T120446Z
DTSTART;TZID=America/New_York:20260502T090000
DTEND;TZID=America/New_York:20260502T110000
DESCRIPTION:Tempat menonton GrIFK vs MuSa di Finlandia - Kakkonen. Siaran l
 angsung dan jadwal TV.\nhttps://streamradar.soccer/id/match/5616979/grifk-v
 s-musa/
URL;VALUE=URI:https://streamradar.soccer/id/match/5616979/grifk-vs-musa/
STATUS:CONFIRMED
END:VEVENT
END:VCALENDAR
