BEGIN:VCALENDAR
VERSION:2.0
PRODID:-//StreamRadar//Match Calendar//EN
CALSCALE:GREGORIAN
METHOD:PUBLISH
X-WR-CALNAME:HPS vs PEPO
X-WR-TIMEZONE:America/New_York
BEGIN:VEVENT
UID:match-5616956@streamradar.soccer
SUMMARY:HPS vs PEPO
DTSTAMP:20260419T120441Z
DTSTART;TZID=America/New_York:20260502T113000
DTEND;TZID=America/New_York:20260502T133000
LOCATION:Briotech Arena
DESCRIPTION:Tempat menonton HPS vs PEPO di Finlandia - Kakkonen. Siaran lan
 gsung dan jadwal TV.\nhttps://streamradar.soccer/id/match/5616956/hps-vs-pe
 po/
URL;VALUE=URI:https://streamradar.soccer/id/match/5616956/hps-vs-pepo/
STATUS:CONFIRMED
END:VEVENT
END:VCALENDAR
