BEGIN:VCALENDAR
VERSION:2.0
PRODID:-//StreamRadar//Match Calendar//EN
CALSCALE:GREGORIAN
METHOD:PUBLISH
X-WR-CALNAME:AFC Malmo vs Tvaaker
X-WR-TIMEZONE:America/New_York
BEGIN:VEVENT
UID:match-5616943@streamradar.soccer
SUMMARY:AFC Malmo vs Tvaaker
DTSTAMP:20260421T104029Z
DTSTART;TZID=America/New_York:20260518T130000
DTEND;TZID=America/New_York:20260518T150000
LOCATION:Hyllie IP
DESCRIPTION:Tempat menonton AFC Malmo vs Tvaaker di Swedia - Ettan. Siaran 
 langsung dan jadwal TV.\nhttps://streamradar.soccer/id/match/5616943/afc-ma
 lmo-vs-tvaaker/
URL;VALUE=URI:https://streamradar.soccer/id/match/5616943/afc-malmo-vs-tvaa
 ker/
STATUS:CONFIRMED
END:VEVENT
END:VCALENDAR
