BEGIN:VCALENDAR
VERSION:2.0
PRODID:-//StreamRadar//Match Calendar//EN
CALSCALE:GREGORIAN
METHOD:PUBLISH
X-WR-CALNAME:Welwalo Adigrat Uni vs Mebrat Hayl (EEPCO)
X-WR-TIMEZONE:America/New_York
BEGIN:VEVENT
UID:match-5616935@streamradar.soccer
SUMMARY:Welwalo Adigrat Uni vs Mebrat Hayl (EEPCO)
DTSTAMP:20260421T104424Z
DTSTART;TZID=America/New_York:20260516T080000
DTEND;TZID=America/New_York:20260516T100000
DESCRIPTION:Tempat menonton Welwalo Adigrat Uni vs Mebrat Hayl (EEPCO) di E
 thiopia - Premier League. Siaran langsung dan jadwal TV.\nhttps://streamrad
 ar.soccer/id/match/5616935/welwalo-adigrat-uni-vs-mebrat-hayl-eepco/
URL;VALUE=URI:https://streamradar.soccer/id/match/5616935/welwalo-adigrat-u
 ni-vs-mebrat-hayl-eepco/
STATUS:CONFIRMED
END:VEVENT
END:VCALENDAR
