BEGIN:VCALENDAR
VERSION:2.0
PRODID:-//StreamRadar//Match Calendar//EN
CALSCALE:GREGORIAN
METHOD:PUBLISH
X-WR-CALNAME:Fasil Kenema vs Bahardar
X-WR-TIMEZONE:America/New_York
BEGIN:VEVENT
UID:match-5616914@streamradar.soccer
SUMMARY:Fasil Kenema vs Bahardar
DTSTAMP:20260421T104139Z
DTSTART;TZID=America/New_York:20260506T080000
DTEND;TZID=America/New_York:20260506T100000
DESCRIPTION:Tempat menonton Fasil Kenema vs Bahardar di Ethiopia - Premier 
 League. Siaran langsung dan jadwal TV.\nhttps://streamradar.soccer/id/match
 /5616914/fasil-kenema-vs-bahardar/
URL;VALUE=URI:https://streamradar.soccer/id/match/5616914/fasil-kenema-vs-b
 ahardar/
STATUS:CONFIRMED
END:VEVENT
END:VCALENDAR
