BEGIN:VCALENDAR
VERSION:2.0
PRODID:-//StreamRadar//Match Calendar//EN
CALSCALE:GREGORIAN
METHOD:PUBLISH
X-WR-CALNAME:Drita vs Llapi
X-WR-TIMEZONE:America/New_York
BEGIN:VEVENT
UID:match-5616883@streamradar.soccer
SUMMARY:Drita vs Llapi
DTSTAMP:20260421T041932Z
DTSTART;TZID=America/New_York:20260425T090000
DTEND;TZID=America/New_York:20260425T110000
LOCATION:Stadiumi i qytetit Gjilan (Gjilan (Gnjilane))
DESCRIPTION:Tempat menonton Drita vs Llapi di Kosovo - Superliga Kosovo. Si
 aran langsung dan jadwal TV.\nhttps://streamradar.soccer/id/match/5616883/d
 rita-vs-llapi/
URL;VALUE=URI:https://streamradar.soccer/id/match/5616883/drita-vs-llapi/
STATUS:CONFIRMED
END:VEVENT
END:VCALENDAR
