BEGIN:VCALENDAR
VERSION:2.0
PRODID:-//StreamRadar//Match Calendar//EN
CALSCALE:GREGORIAN
METHOD:PUBLISH
X-WR-CALNAME:Ararat-Armenia vs Pyunik
X-WR-TIMEZONE:America/New_York
BEGIN:VEVENT
UID:match-5616869@streamradar.soccer
SUMMARY:Ararat-Armenia vs Pyunik
DTSTAMP:20260421T093620Z
DTSTART;TZID=America/New_York:20260506T083000
DTEND;TZID=America/New_York:20260506T103000
LOCATION:Football Academy Stadium
DESCRIPTION:Tempat menonton Ararat-Armenia vs Pyunik di Armenian Premier Le
 ague. Siaran langsung dan jadwal TV.\nhttps://streamradar.soccer/id/match/5
 616869/ararat-armenia-vs-pyunik/
URL;VALUE=URI:https://streamradar.soccer/id/match/5616869/ararat-armenia-vs
 -pyunik/
STATUS:CONFIRMED
END:VEVENT
END:VCALENDAR
