BEGIN:VCALENDAR
VERSION:2.0
PRODID:-//StreamRadar//Match Calendar//EN
CALSCALE:GREGORIAN
METHOD:PUBLISH
X-WR-CALNAME:Spartak Varna vs Slavia Sofia
X-WR-TIMEZONE:America/New_York
BEGIN:VEVENT
UID:match-5616830@streamradar.soccer
SUMMARY:Spartak Varna vs Slavia Sofia
DTSTAMP:20260419T122404Z
DTSTART;TZID=America/New_York:20260509T110000
DTEND;TZID=America/New_York:20260509T130000
LOCATION:Stadion Spartak
DESCRIPTION:Tempat menonton Spartak Varna vs Slavia Sofia di Bulgaria - Par
 va Liga. Siaran langsung dan jadwal TV.\nhttps://streamradar.soccer/id/matc
 h/5616830/spartak-varna-vs-slavia-sofia/
URL;VALUE=URI:https://streamradar.soccer/id/match/5616830/spartak-varna-vs-
 slavia-sofia/
STATUS:CONFIRMED
END:VEVENT
END:VCALENDAR
