BEGIN:VCALENDAR
VERSION:2.0
PRODID:-//StreamRadar//Match Calendar//EN
CALSCALE:GREGORIAN
METHOD:PUBLISH
X-WR-CALNAME:Montana vs Dobrudzha 1919
X-WR-TIMEZONE:America/New_York
BEGIN:VEVENT
UID:match-5616816@streamradar.soccer
SUMMARY:Montana vs Dobrudzha 1919
DTSTAMP:20260421T055035Z
DTSTART;TZID=America/New_York:20260427T103000
DTEND;TZID=America/New_York:20260427T123000
LOCATION:Ogosta Stadium
DESCRIPTION:Tempat menonton Montana vs Dobrudzha 1919 di Bulgaria - Parva L
 iga. Siaran langsung dan jadwal TV.\nhttps://streamradar.soccer/id/match/56
 16816/montana-vs-dobrudzha-1919/
URL;VALUE=URI:https://streamradar.soccer/id/match/5616816/montana-vs-dobrud
 zha-1919/
STATUS:CONFIRMED
END:VEVENT
END:VCALENDAR
