BEGIN:VCALENDAR
VERSION:2.0
PRODID:-//StreamRadar//Match Calendar//EN
CALSCALE:GREGORIAN
METHOD:PUBLISH
X-WR-CALNAME:Izhevsk vs Nosta
X-WR-TIMEZONE:America/New_York
BEGIN:VEVENT
UID:match-5616274@streamradar.soccer
SUMMARY:Izhevsk vs Nosta
DTSTAMP:20260421T080651Z
DTSTART;TZID=America/New_York:20260517T090000
DTEND;TZID=America/New_York:20260517T110000
DESCRIPTION:Tempat menonton Izhevsk vs Nosta di Rusia - FNL 2. Siaran langs
 ung dan jadwal TV.\nhttps://streamradar.soccer/id/match/5616274/izhevsk-vs-
 nosta/
URL;VALUE=URI:https://streamradar.soccer/id/match/5616274/izhevsk-vs-nosta/
STATUS:CONFIRMED
END:VEVENT
END:VCALENDAR
