BEGIN:VCALENDAR
VERSION:2.0
PRODID:-//StreamRadar//Match Calendar//EN
CALSCALE:GREGORIAN
METHOD:PUBLISH
X-WR-CALNAME:Almaden vs Academica
X-WR-TIMEZONE:America/New_York
BEGIN:VEVENT
UID:match-5616233@streamradar.soccer
SUMMARY:Almaden vs Academica
DTSTAMP:20260421T093046Z
DTSTART;TZID=America/New_York:20260516T210000
DTEND;TZID=America/New_York:20260516T230000
DESCRIPTION:Tempat menonton Almaden vs Academica di USL League Two. Siaran 
 langsung dan jadwal TV.\nhttps://streamradar.soccer/id/match/5616233/almade
 n-vs-academica/
URL;VALUE=URI:https://streamradar.soccer/id/match/5616233/almaden-vs-academ
 ica/
STATUS:CONFIRMED
END:VEVENT
END:VCALENDAR
