BEGIN:VCALENDAR
VERSION:2.0
PRODID:-//StreamRadar//Match Calendar//EN
CALSCALE:GREGORIAN
METHOD:PUBLISH
X-WR-CALNAME:Al Gharafa vs Umm Salal
X-WR-TIMEZONE:America/New_York
BEGIN:VEVENT
UID:match-5616217@streamradar.soccer
SUMMARY:Al Gharafa vs Umm Salal
DTSTAMP:20260421T095826Z
DTSTART;TZID=America/New_York:20260501T130000
DTEND;TZID=America/New_York:20260501T150000
LOCATION:Thani bin Jassim Stadium
DESCRIPTION:Tempat menonton Al Gharafa vs Umm Salal di Qatar - Emir Cup. Si
 aran langsung dan jadwal TV.\nhttps://streamradar.soccer/id/match/5616217/a
 l-gharafa-vs-umm-salal/
URL;VALUE=URI:https://streamradar.soccer/id/match/5616217/al-gharafa-vs-umm
 -salal/
STATUS:CONFIRMED
END:VEVENT
END:VCALENDAR
