BEGIN:VCALENDAR
VERSION:2.0
PRODID:-//StreamRadar//Match Calendar//EN
CALSCALE:GREGORIAN
METHOD:PUBLISH
X-WR-CALNAME:São Salvador vs FC Bravos
X-WR-TIMEZONE:America/New_York
BEGIN:VEVENT
UID:match-5616163@streamradar.soccer
SUMMARY:São Salvador vs FC Bravos
DTSTAMP:20260421T093130Z
DTSTART;TZID=America/New_York:20260419T100000
DTEND;TZID=America/New_York:20260419T120000
DESCRIPTION:Tempat menonton São Salvador vs FC Bravos di Angola - Girabola
 . Siaran langsung dan jadwal TV.\nhttps://streamradar.soccer/id/match/56161
 63/sao-salvador-vs-fc-bravos/
URL;VALUE=URI:https://streamradar.soccer/id/match/5616163/sao-salvador-vs-f
 c-bravos/
STATUS:CONFIRMED
END:VEVENT
END:VCALENDAR
