BEGIN:VCALENDAR
VERSION:2.0
PRODID:-//StreamRadar//Match Calendar//EN
CALSCALE:GREGORIAN
METHOD:PUBLISH
X-WR-CALNAME:BKS Sparta Katowice vs SKRA Częstochowa
X-WR-TIMEZONE:America/New_York
BEGIN:VEVENT
UID:match-5615560@streamradar.soccer
SUMMARY:BKS Sparta Katowice vs SKRA Częstochowa
DTSTAMP:20260421T060123Z
DTSTART;TZID=America/New_York:20260516T060000
DTEND;TZID=America/New_York:20260516T080000
DESCRIPTION:Tempat menonton BKS Sparta Katowice vs SKRA Częstochowa di Pol
 andia - III Liga. Siaran langsung dan jadwal TV.\nhttps://streamradar.socce
 r/id/match/5615560/bks-sparta-katowice-vs-skra-cz-stochowa/
URL;VALUE=URI:https://streamradar.soccer/id/match/5615560/bks-sparta-katowi
 ce-vs-skra-cz-stochowa/
STATUS:CONFIRMED
END:VEVENT
END:VCALENDAR
