BEGIN:VCALENDAR
VERSION:2.0
PRODID:-//StreamRadar//Match Calendar//EN
CALSCALE:GREGORIAN
METHOD:PUBLISH
X-WR-CALNAME:Belconnen United vs Monaro Panthers
X-WR-TIMEZONE:America/New_York
BEGIN:VEVENT
UID:match-5615481@streamradar.soccer
SUMMARY:Belconnen United vs Monaro Panthers
DTSTAMP:20260421T080743Z
DTSTART;TZID=America/New_York:20260516T023000
DTEND;TZID=America/New_York:20260516T043000
LOCATION:McKellar Park
DESCRIPTION:Tempat menonton Belconnen United vs Monaro Panthers di Australi
 a - NPL ACT. Siaran langsung dan jadwal TV.\nhttps://streamradar.soccer/id/
 match/5615481/belconnen-united-vs-monaro-panthers/
URL;VALUE=URI:https://streamradar.soccer/id/match/5615481/belconnen-united-
 vs-monaro-panthers/
STATUS:CONFIRMED
END:VEVENT
END:VCALENDAR
