BEGIN:VCALENDAR
VERSION:2.0
PRODID:-//StreamRadar//Match Calendar//EN
CALSCALE:GREGORIAN
METHOD:PUBLISH
X-WR-CALNAME:RÃ©al Bamako vs Derby Academie
X-WR-TIMEZONE:America/New_York
BEGIN:VEVENT
UID:match-5615459@streamradar.soccer
SUMMARY:RÃ©al Bamako vs Derby Academie
DTSTAMP:20260421T080742Z
DTSTART;TZID=America/New_York:20260513T123000
DTEND;TZID=America/New_York:20260513T143000
DESCRIPTION:Tempat menonton RÃ©al Bamako vs Derby Academie di Mali - PremiÃ
 ¨re Division. Siaran langsung dan jadwal TV.\nhttps://streamradar.soccer/id
 /match/5615459/real-bamako-vs-derby-academie/
URL;VALUE=URI:https://streamradar.soccer/id/match/5615459/real-bamako-vs-de
 rby-academie/
STATUS:CONFIRMED
END:VEVENT
END:VCALENDAR
